BEGIN:VCALENDAR
VERSION:2.0
PRODID:-//The Eureka Sentinel - ECPv6.15.18//NONSGML v1.0//EN
CALSCALE:GREGORIAN
METHOD:PUBLISH
X-WR-CALNAME:The Eureka Sentinel
X-ORIGINAL-URL:https://eurekasentinel.com
X-WR-CALDESC:Events for The Eureka Sentinel
REFRESH-INTERVAL;VALUE=DURATION:PT1H
X-Robots-Tag:noindex
X-PUBLISHED-TTL:PT1H
BEGIN:VTIMEZONE
TZID:America/Los_Angeles
BEGIN:DAYLIGHT
TZOFFSETFROM:-0800
TZOFFSETTO:-0700
TZNAME:PDT
DTSTART:20250309T100000
END:DAYLIGHT
BEGIN:STANDARD
TZOFFSETFROM:-0700
TZOFFSETTO:-0800
TZNAME:PST
DTSTART:20251102T090000
END:STANDARD
BEGIN:DAYLIGHT
TZOFFSETFROM:-0800
TZOFFSETTO:-0700
TZNAME:PDT
DTSTART:20260308T100000
END:DAYLIGHT
BEGIN:STANDARD
TZOFFSETFROM:-0700
TZOFFSETTO:-0800
TZNAME:PST
DTSTART:20261101T090000
END:STANDARD
BEGIN:DAYLIGHT
TZOFFSETFROM:-0800
TZOFFSETTO:-0700
TZNAME:PDT
DTSTART:20270314T100000
END:DAYLIGHT
BEGIN:STANDARD
TZOFFSETFROM:-0700
TZOFFSETTO:-0800
TZNAME:PST
DTSTART:20271107T090000
END:STANDARD
END:VTIMEZONE
BEGIN:VEVENT
DTSTART;TZID=America/Los_Angeles:20260416T180000
DTEND;TZID=America/Los_Angeles:20260416T200000
DTSTAMP:20260419T153028
CREATED:20260406T190348Z
LAST-MODIFIED:20260406T190348Z
UID:10000730-1776362400-1776369600@eurekasentinel.com
SUMMARY:Dance Recital - Eureka County Juvenile Probation
DESCRIPTION:Eureka County Juvenile Probation presents their Dance Recital on Thursday\, April 16\, at 6 PM at the Eureka Opera House. Come out and cheer on these talented young performers!\nLearn more about all Eureka County Juvenile Probation programs at https://www.eurekacountynv.gov/departments/juvenile-probation/programs/
URL:https://eurekasentinel.com/event/dance-recital-eureka-county-juvenile-probation/
LOCATION:Eureka Opera House\, 31 S Main St\, Eureka\, NV\, 89316\, United States
ATTACH;FMTTYPE=image/jpeg:https://eurekasentinel.com/wp-content/uploads/2018/11/eureka-square-logo.jpg
END:VEVENT
BEGIN:VEVENT
DTSTART;TZID=America/Los_Angeles:20260419T140000
DTEND;TZID=America/Los_Angeles:20260419T160000
DTSTAMP:20260419T153028
CREATED:20260419T185352Z
LAST-MODIFIED:20260419T185352Z
UID:10000731-1776607200-1776614400@eurekasentinel.com
SUMMARY:White Pine County Democratic Convention
DESCRIPTION:April 19: White Pine County Democratic Convention is hosting 9 Democratic candidates for Nevada’s Congressional District 2 (Mark Amodei’s old seat). The event is at the White Pine High School Multipurpose Room. Event starts at 2:00 pm. \nWHERE: White Pine High School Multi-Purpose Room
URL:https://eurekasentinel.com/event/white-pine-county-democratic-convention/
LOCATION:White Pine High School\, 1800 Bobcat Dr\, Ely\, NV\, 89301\, United States
ATTACH;FMTTYPE=image/jpeg:https://eurekasentinel.com/wp-content/uploads/2026/04/FOR-IMMEDIATE-RELEASE-1.jpg
END:VEVENT
BEGIN:VEVENT
DTSTART;TZID=America/Los_Angeles:20260420T153000
DTEND;TZID=America/Los_Angeles:20260420T173000
DTSTAMP:20260419T153028
CREATED:20260419T185830Z
LAST-MODIFIED:20260419T185830Z
UID:10000732-1776699000-1776706200@eurekasentinel.com
SUMMARY:Congressional District 2 Rural Tour
DESCRIPTION:April 20: The Congressional District 2 Rural Tour will be at the Eureka Opera House. Doors open at 3:30 pm; please come meet all the candidates running for Mark Amodei’s seat in congress.
URL:https://eurekasentinel.com/event/congressional-district-2-rural-tour/
LOCATION:Eureka Opera House\, 31 S Main St\, Eureka\, NV\, 89316\, United States
ATTACH;FMTTYPE=image/jpeg:https://eurekasentinel.com/wp-content/uploads/2026/04/FOR-IMMEDIATE-RELEASE-1.jpg
END:VEVENT
END:VCALENDAR