BEGIN:VCALENDAR
VERSION:2.0
PRODID:-//The Eureka Sentinel - ECPv6.15.18//NONSGML v1.0//EN
CALSCALE:GREGORIAN
METHOD:PUBLISH
X-ORIGINAL-URL:https://eurekasentinel.com
X-WR-CALDESC:Events for The Eureka Sentinel
REFRESH-INTERVAL;VALUE=DURATION:PT1H
X-Robots-Tag:noindex
X-PUBLISHED-TTL:PT1H
BEGIN:VTIMEZONE
TZID:America/Los_Angeles
BEGIN:DAYLIGHT
TZOFFSETFROM:-0800
TZOFFSETTO:-0700
TZNAME:PDT
DTSTART:20250309T100000
END:DAYLIGHT
BEGIN:STANDARD
TZOFFSETFROM:-0700
TZOFFSETTO:-0800
TZNAME:PST
DTSTART:20251102T090000
END:STANDARD
BEGIN:DAYLIGHT
TZOFFSETFROM:-0800
TZOFFSETTO:-0700
TZNAME:PDT
DTSTART:20260308T100000
END:DAYLIGHT
BEGIN:STANDARD
TZOFFSETFROM:-0700
TZOFFSETTO:-0800
TZNAME:PST
DTSTART:20261101T090000
END:STANDARD
BEGIN:DAYLIGHT
TZOFFSETFROM:-0800
TZOFFSETTO:-0700
TZNAME:PDT
DTSTART:20270314T100000
END:DAYLIGHT
BEGIN:STANDARD
TZOFFSETFROM:-0700
TZOFFSETTO:-0800
TZNAME:PST
DTSTART:20271107T090000
END:STANDARD
END:VTIMEZONE
BEGIN:VEVENT
DTSTART;TZID=America/Los_Angeles:20260419T140000
DTEND;TZID=America/Los_Angeles:20260419T160000
DTSTAMP:20260419T171822
CREATED:20260419T185352Z
LAST-MODIFIED:20260419T185352Z
UID:10000731-1776607200-1776614400@eurekasentinel.com
SUMMARY:White Pine County Democratic Convention
DESCRIPTION:April 19: White Pine County Democratic Convention is hosting 9 Democratic candidates for Nevada’s Congressional District 2 (Mark Amodei’s old seat). The event is at the White Pine High School Multipurpose Room. Event starts at 2:00 pm. \nWHERE: White Pine High School Multi-Purpose Room
URL:https://eurekasentinel.com/event/white-pine-county-democratic-convention/
LOCATION:White Pine High School\, 1800 Bobcat Dr\, Ely\, NV\, 89301\, United States
ATTACH;FMTTYPE=image/jpeg:https://eurekasentinel.com/wp-content/uploads/2026/04/FOR-IMMEDIATE-RELEASE-1.jpg
END:VEVENT
END:VCALENDAR